BEGIN:VCALENDAR
VERSION:2.0
PRODID:-//SSGA - ECPv6.15.4//NONSGML v1.0//EN
CALSCALE:GREGORIAN
METHOD:PUBLISH
X-WR-CALNAME:SSGA
X-ORIGINAL-URL:https://skstockgrowers.com
X-WR-CALDESC:Events for SSGA
REFRESH-INTERVAL;VALUE=DURATION:PT1H
X-Robots-Tag:noindex
X-PUBLISHED-TTL:PT1H
BEGIN:VTIMEZONE
TZID:America/Chicago
BEGIN:DAYLIGHT
TZOFFSETFROM:-0600
TZOFFSETTO:-0500
TZNAME:CDT
DTSTART:20160313T080000
END:DAYLIGHT
BEGIN:STANDARD
TZOFFSETFROM:-0500
TZOFFSETTO:-0600
TZNAME:CST
DTSTART:20161106T070000
END:STANDARD
END:VTIMEZONE
BEGIN:VTIMEZONE
TZID:America/Regina
BEGIN:STANDARD
TZOFFSETFROM:-0600
TZOFFSETTO:-0600
TZNAME:CST
DTSTART:20140101T000000
END:STANDARD
END:VTIMEZONE
BEGIN:VEVENT
DTSTART;TZID=America/Chicago:20160612T180000
DTEND;TZID=America/Chicago:20160612T200000
DTSTAMP:20260423T151126
CREATED:20160115T025928Z
LAST-MODIFIED:20160115T025928Z
UID:4880-1465754400-1465761600@skstockgrowers.com
SUMMARY:Different\, Not Less - An Evening With Dr. Temple Grandin
DESCRIPTION:Sponsorship Opportunities\nClick here to learn about sponsorship opportunities for An Evening with Dr. Temple Grandin. \nTickets\nTickets are currently available for sale online or by calling 1-800-667-8497. \nAbout\nThe Autism Resource Centre (ARC) and the Saskatchewan Stock Growers Association (SSGA) are proud to present: Different\, Not Less – An Evening with Dr. Temple Grandin. \nDr. Temple Grandin is recognized as a world leader in autism awareness. She is a captivating speaker\, and the world’s best-selling author on autism. Dr. Grandin is also a leading scholar and expert in livestock handling\, animal welfare\, and facility design. \nTemple achieved all of this despite her autism diagnosis in the 1940s. Little was known about autism at the time\, so she was nearly institutionalized. Fortunately\, Temple received support and early interventions: “I had people in my life who didn’t give up on me: my mother\, my aunt\, my science teacher. I had one-on-one speech therapy. I had a nanny who spent all day playing turn-taking games with me.”  \nIn 2010\, Time Magazine named her one of the 100 most influential people in the world and Dr. Grandin’s life story was made into an HBO movie titled “Temple Grandin”\, staring Claire Danes. The film shows her life as a teenager with autism\, the powerful support of those who believed in her\, her own strengths and how her interests were leveraged to start her career in the animal sciences; it won seven Emmy Awards and a Golden Globe.  \nAnyone seeking to gain a better understanding of autism and individuals on the spectrum will benefit from hearing Dr. Grandin speak. Her wisdom and insight will help address the needs of people living with autism. Do not miss out on this opportunity!  \n$100 VIP Tickets Include:\nOne Prime VIP Location Reserved Ticket\nPrivate VIP reception and book signing with Temple Grandin prior to the show\nFood and drinks at reception
URL:https://skstockgrowers.com/event/an-evening-with-temple-grandin/
LOCATION:Conexus Arts Centre\, Regina\, Saskatchewan\, Canada
CATEGORIES:SSGA
END:VEVENT
BEGIN:VEVENT
DTSTART;VALUE=DATE:20150607
DTEND;VALUE=DATE:20150610
DTSTAMP:20260423T151126
CREATED:20150202T214242Z
LAST-MODIFIED:20150202T214242Z
UID:4370-1433635200-1433894399@skstockgrowers.com
SUMMARY:SSGA 102nd AGM & Convention
DESCRIPTION:Registration\nComplete Agenda and Registration Form – NOW AVAILABLE.  \nResolutions\nZone resolutions  to be debated at AGM.  \nHotel Rooms\nWe have a block of rooms set aside for conference attendees at the Holiday Inn Express. Call (306) 773-8288 to make a reservation.
URL:https://skstockgrowers.com/event/ssga-102nd-agm-convention/
LOCATION:Stockade\, Swift Current\, Saskatchewan\, Canada
CATEGORIES:Meeting,SSGA
END:VEVENT
BEGIN:VEVENT
DTSTART;TZID=America/Regina:20140608T173000
DTEND;TZID=America/Regina:20140610T170000
DTSTAMP:20260423T151126
CREATED:20140428T224152Z
LAST-MODIFIED:20140428T224152Z
UID:3790-1402248600-1402419600@skstockgrowers.com
SUMMARY:SK Stock Growers Association AGM
DESCRIPTION:
URL:https://skstockgrowers.com/event/sk-stock-growers-association-agm/
LOCATION:Moose Jaw Exhibition Convention Centre\, Moose Jaw\, Saskatchewan\, Canada
END:VEVENT
END:VCALENDAR