BEGIN:VCALENDAR
VERSION:2.0
PRODID:-//SSGA - ECPv6.15.4//NONSGML v1.0//EN
CALSCALE:GREGORIAN
METHOD:PUBLISH
X-ORIGINAL-URL:https://skstockgrowers.com
X-WR-CALDESC:Events for SSGA
REFRESH-INTERVAL;VALUE=DURATION:PT1H
X-Robots-Tag:noindex
X-PUBLISHED-TTL:PT1H
BEGIN:VTIMEZONE
TZID:America/Chicago
BEGIN:DAYLIGHT
TZOFFSETFROM:-0600
TZOFFSETTO:-0500
TZNAME:CDT
DTSTART:20260308T080000
END:DAYLIGHT
BEGIN:STANDARD
TZOFFSETFROM:-0500
TZOFFSETTO:-0600
TZNAME:CST
DTSTART:20261101T070000
END:STANDARD
END:VTIMEZONE
BEGIN:VEVENT
DTSTART;TZID=America/Chicago:20260330T130000
DTEND;TZID=America/Chicago:20260330T170000
DTSTAMP:20260421T062239
CREATED:20160213T054650Z
LAST-MODIFIED:20260303T050631Z
UID:4999-1774875600-1774890000@skstockgrowers.com
SUMMARY:Merit Cattle Co & Cockburn Red Angus Bull Sale
DESCRIPTION:
URL:https://skstockgrowers.com/event/merit-cattle-co-cockburn-red-angus-bull-sale-2/
LOCATION:Johnstone Auction Mart\, Moose Jaw\, Saskatchewan\, Canada
CATEGORIES:Auctions
END:VEVENT
END:VCALENDAR